BEGIN:VCALENDAR
VERSION:2.0
PRODID:-//Bezirks-Imkerverein Bühl e.V - ECPv6.15.20//NONSGML v1.0//EN
CALSCALE:GREGORIAN
METHOD:PUBLISH
X-WR-CALNAME:Bezirks-Imkerverein Bühl e.V
X-ORIGINAL-URL:https://imker-buehl.de
X-WR-CALDESC:Veranstaltungen für Bezirks-Imkerverein Bühl e.V
REFRESH-INTERVAL;VALUE=DURATION:PT1H
X-Robots-Tag:noindex
X-PUBLISHED-TTL:PT1H
BEGIN:VTIMEZONE
TZID:UTC
BEGIN:STANDARD
TZOFFSETFROM:+0000
TZOFFSETTO:+0000
TZNAME:UTC
DTSTART:20240101T000000
END:STANDARD
END:VTIMEZONE
BEGIN:VEVENT
DTSTART;VALUE=DATE:20251220
DTEND;VALUE=DATE:20251221
DTSTAMP:20260425T220308
CREATED:20251201T102911Z
LAST-MODIFIED:20251201T102911Z
UID:945-1766188800-1766275199@imker-buehl.de
SUMMARY:Meldung Völkerananzahl
DESCRIPTION:Liebe Imker und Imkerinnen\, \n \n\n \nWie in jedem Jahr bitten wir um die Meldung der Völkerzahl\, falls sich diese zum Vorjahr verändert hat\, bis spätestens 20.12.25 an mich per email: Sonja.schaufler@imker-buehl.de\n \nHinweis:\nDie korrekte Meldung der Völkerzahl an den Verein/Verband ist wichtig für einen umfassenden Versicherungsschutz. Die gemeldete Zahl der Völker wirkt sich nur geringfügig (0\,25€/Volk) auf den Beitrag aus.\n \nVielen Dank und eine schöne Adventzeit!\n \nSonja Schaufler\nBezirks-Imkerverein Bühl e.V.\nSchatzmeisterin
URL:https://imker-buehl.de/veranstaltungen/meldung-voelkerananzahl/
END:VEVENT
END:VCALENDAR