BEGIN:VCALENDAR
VERSION:2.0
PRODID:-//Bezirks-Imkerverein Bühl e.V - ECPv6.15.20//NONSGML v1.0//EN
CALSCALE:GREGORIAN
METHOD:PUBLISH
X-ORIGINAL-URL:https://imker-buehl.de
X-WR-CALDESC:Veranstaltungen für Bezirks-Imkerverein Bühl e.V
REFRESH-INTERVAL;VALUE=DURATION:PT1H
X-Robots-Tag:noindex
X-PUBLISHED-TTL:PT1H
BEGIN:VTIMEZONE
TZID:UTC
BEGIN:STANDARD
TZOFFSETFROM:+0000
TZOFFSETTO:+0000
TZNAME:UTC
DTSTART:20240101T000000
END:STANDARD
END:VTIMEZONE
BEGIN:VEVENT
DTSTART;TZID=UTC:20251107T190000
DTEND;TZID=UTC:20251107T220000
DTSTAMP:20260425T234156
CREATED:20251017T135815Z
LAST-MODIFIED:20251022T085923Z
UID:843-1762542000-1762552800@imker-buehl.de
SUMMARY:nach 2026:  Gadget Abend: Vorstellung von kleinen Helferlein die das Imkern einfach machen. Vereinsheim Balzhofen
DESCRIPTION:Gadget Abend: Vorstellung von kleinen Helferlein die das Imkern einfach machen.\nVereinsheim Balzhofen
URL:https://imker-buehl.de/veranstaltungen/verschoben-nach-2026-gadget-abend-vorstellung-von-kleinen-helferlein-die-das-imkern-einfach-machen-vereinsheim-balzhofen/
LOCATION:Vereinsheim Balzhofen\, Balzhofener Str.\, Balzhofen\, 77853\, Germany
END:VEVENT
BEGIN:VEVENT
DTSTART;TZID=UTC:20251121T190000
DTEND;TZID=UTC:20251121T220000
DTSTAMP:20260425T234156
CREATED:20251017T095435Z
LAST-MODIFIED:20251020T145522Z
UID:828-1763751600-1763762400@imker-buehl.de
SUMMARY:Fachvortrag: Brutunterbrechung mit dem Königinnenisolator
DESCRIPTION:Fachvortrag: Referent Imker Ralf Alles\nBrutunterbrechung mit dem Königinnenisolator -\nEine effiziente Methode im Kampf gegen Varroa und Wetterveränderungen.\nVereinsheim Balzhofen
URL:https://imker-buehl.de/veranstaltungen/fachvortrag-brutunterbrechung-mit-dem-koeniginnenisolator/
LOCATION:Vereinsheim Balzhofen\, Balzhofener Str.\, Balzhofen\, 77853\, Germany
END:VEVENT
BEGIN:VEVENT
DTSTART;TZID=UTC:20251129T140000
DTEND;TZID=UTC:20251129T170000
DTSTAMP:20260425T234156
CREATED:20251017T110836Z
LAST-MODIFIED:20251017T110836Z
UID:834-1764424800-1764435600@imker-buehl.de
SUMMARY:Weihnachtliches Wachsverarbeiten Workshop
DESCRIPTION:Weihnachtliches Wachsverarbeiten Workshop mit Kerzengießen\, Kerzenziehen und Kerzenrollen. Für Kaffee und Kuchen ist gesorgt. Vereinsheim Balzhofen\n(Anmeldung erforderlich bei Sonja Schaufler)
URL:https://imker-buehl.de/veranstaltungen/weihnachtliches-wachsverarbeiten-workshop/
LOCATION:Vereinsheim Balzhofen\, Balzhofener Str.\, Balzhofen\, 77853\, Germany
END:VEVENT
BEGIN:VEVENT
DTSTART;VALUE=DATE:20251130
DTEND;VALUE=DATE:20251201
DTSTAMP:20260425T234156
CREATED:20251022T090451Z
LAST-MODIFIED:20251022T091047Z
UID:859-1764460800-1764547199@imker-buehl.de
SUMMARY:Letzte Meldung Anzahl Völker (nur bei Veränderung zum Vorjahr)
DESCRIPTION:Letzter Termin Meldung der Völkerzahl\nnur bei Veränderung zum Vorjahr. \nBitte meldet Eure Anzahl direkt bei Sonja Schaufler.\n(sonja.schaufler@imker-buehl.de)
URL:https://imker-buehl.de/veranstaltungen/meldung-anzahl-voelker/
END:VEVENT
END:VCALENDAR