BEGIN:VCALENDAR
VERSION:2.0
PRODID:-//Bezirks-Imkerverein Bühl e.V - ECPv6.15.20//NONSGML v1.0//EN
CALSCALE:GREGORIAN
METHOD:PUBLISH
X-ORIGINAL-URL:https://imker-buehl.de
X-WR-CALDESC:Veranstaltungen für Bezirks-Imkerverein Bühl e.V
REFRESH-INTERVAL;VALUE=DURATION:PT1H
X-Robots-Tag:noindex
X-PUBLISHED-TTL:PT1H
BEGIN:VTIMEZONE
TZID:UTC
BEGIN:STANDARD
TZOFFSETFROM:+0000
TZOFFSETTO:+0000
TZNAME:UTC
DTSTART:20240101T000000
END:STANDARD
END:VTIMEZONE
BEGIN:VEVENT
DTSTART;TZID=UTC:20251017T190000
DTEND;TZID=UTC:20251017T220000
DTSTAMP:20260426T012434
CREATED:20251017T120924Z
LAST-MODIFIED:20251017T135557Z
UID:840-1760727600-1760738400@imker-buehl.de
SUMMARY:Honigverkostung mit eigenen Honigen der Imker im Vereinsheim Balzhofen
DESCRIPTION:An die erfolgreiche Honigverkostung 2024\, wo über 20 verschiedene Honige bereit standen\, wollen Ihr dieses Jahr wieder anknüpfen.\nBitte bringt doch Euren Honig zum Verkosten mit ins Vereinsheim.
URL:https://imker-buehl.de/veranstaltungen/honigverkostung-mit-eigenen-honigen-der-imker/
LOCATION:Vereinsheim Balzhofen\, Balzhofener Str.\, Balzhofen\, 77853\, Germany
END:VEVENT
END:VCALENDAR