BEGIN:VCALENDAR
VERSION:2.0
PRODID:-//Bezirks-Imkerverein Bühl e.V - ECPv6.15.20//NONSGML v1.0//EN
CALSCALE:GREGORIAN
METHOD:PUBLISH
X-ORIGINAL-URL:https://imker-buehl.de
X-WR-CALDESC:Veranstaltungen für Bezirks-Imkerverein Bühl e.V
REFRESH-INTERVAL;VALUE=DURATION:PT1H
X-Robots-Tag:noindex
X-PUBLISHED-TTL:PT1H
BEGIN:VTIMEZONE
TZID:UTC
BEGIN:STANDARD
TZOFFSETFROM:+0000
TZOFFSETTO:+0000
TZNAME:UTC
DTSTART:20250101T000000
END:STANDARD
END:VTIMEZONE
BEGIN:VEVENT
DTSTART;TZID=UTC:20260614T090000
DTEND;TZID=UTC:20260614T160000
DTSTAMP:20260425T201634
CREATED:20260409T102920Z
LAST-MODIFIED:20260409T102920Z
UID:1003-1781427600-1781452800@imker-buehl.de
SUMMARY:Feierliche Eröffnung unseres Pavillions im Bienenschaugarten
DESCRIPTION:
URL:https://imker-buehl.de/veranstaltungen/feierliche-eroeffnung-unseres-pavillions-im-bienenschaugarten/
LOCATION:Bienenschaugarten (BSG)\, Bühlertalstraße\, Bühl\, 77815\, Germany
END:VEVENT
END:VCALENDAR