BEGIN:VCALENDAR
VERSION:2.0
PRODID:-//Bezirks-Imkerverein Bühl e.V - ECPv6.15.20//NONSGML v1.0//EN
CALSCALE:GREGORIAN
METHOD:PUBLISH
X-WR-CALNAME:Bezirks-Imkerverein Bühl e.V
X-ORIGINAL-URL:https://imker-buehl.de
X-WR-CALDESC:Veranstaltungen für Bezirks-Imkerverein Bühl e.V
REFRESH-INTERVAL;VALUE=DURATION:PT1H
X-Robots-Tag:noindex
X-PUBLISHED-TTL:PT1H
BEGIN:VTIMEZONE
TZID:UTC
BEGIN:STANDARD
TZOFFSETFROM:+0000
TZOFFSETTO:+0000
TZNAME:UTC
DTSTART:20250101T000000
END:STANDARD
END:VTIMEZONE
BEGIN:VEVENT
DTSTART;VALUE=DATE:20260418
DTEND;VALUE=DATE:20260420
DTSTAMP:20260425T171517
CREATED:20251022T093535Z
LAST-MODIFIED:20251022T100451Z
UID:866-1776470400-1776643199@imker-buehl.de
SUMMARY:Badischer Imkertag
DESCRIPTION:
URL:https://imker-buehl.de/veranstaltungen/badischer-imkertag/
LOCATION:Radolfszell\, Priminweg 5\, Radolfszell am Bodensee\, BW\, 78315
END:VEVENT
END:VCALENDAR